View In:
ArcGIS JavaScript
ArcGIS Online Map Viewer
ArcGIS Earth
ArcGIS Pro
Service Description:
Map Name: Map
Legend
All Layers and Tables
Dynamic Legend
Dynamic All Layers
Layers:
Description:
Copyright Text:
Spatial Reference:
102743
(3566)
LatestVCSWkid(0)
Single Fused Map Cache: true
Tile Info:
- Height: 256.0
- Width: 256.0
- DPI: 96.0
-
Levels of Detail: 24
-
Level ID: 0
[ Start Tile, End Tile ]
- Resolution: 948726.2560789823
- Scale: 1.0929348328726535E9
-
Level ID: 1
[ Start Tile, End Tile ]
- Resolution: 474363.12803949113
- Scale: 5.464674164363267E8
-
Level ID: 2
[ Start Tile, End Tile ]
- Resolution: 237181.56401974557
- Scale: 2.732337082181634E8
-
Level ID: 3
[ Start Tile, End Tile ]
- Resolution: 118590.78200987278
- Scale: 1.366168541090817E8
-
Level ID: 4
[ Start Tile, End Tile ]
- Resolution: 59295.39100493639
- Scale: 6.830842705454084E7
-
Level ID: 5
[ Start Tile, End Tile ]
- Resolution: 29647.695502468196
- Scale: 3.415421352727042E7
-
Level ID: 6
[ Start Tile, End Tile ]
- Resolution: 14823.847751234098
- Scale: 1.707710676363521E7
-
Level ID: 7
[ Start Tile, End Tile ]
- Resolution: 7411.923875617049
- Scale: 8538553.381817605
-
Level ID: 8
[ Start Tile, End Tile ]
- Resolution: 3705.9619378085245
- Scale: 4269276.690908803
-
Level ID: 9
[ Start Tile, End Tile ]
- Resolution: 1852.9809689042622
- Scale: 2134638.3454544013
-
Level ID: 10
[ Start Tile, End Tile ]
- Resolution: 926.4904844521311
- Scale: 1067319.1727272007
-
Level ID: 11
[ Start Tile, End Tile ]
- Resolution: 463.24524222606556
- Scale: 533659.5863636003
-
Level ID: 12
[ Start Tile, End Tile ]
- Resolution: 231.62262111303278
- Scale: 266829.79318180017
-
Level ID: 13
[ Start Tile, End Tile ]
- Resolution: 115.81131055651639
- Scale: 133414.89659090008
-
Level ID: 14
[ Start Tile, End Tile ]
- Resolution: 57.905655278258195
- Scale: 66707.44829545004
-
Level ID: 15
[ Start Tile, End Tile ]
- Resolution: 28.952827639129097
- Scale: 33353.72414772502
-
Level ID: 16
[ Start Tile, End Tile ]
- Resolution: 14.476413819564549
- Scale: 16676.86207386251
-
Level ID: 17
[ Start Tile, End Tile ]
- Resolution: 7.238206909782274
- Scale: 8338.431036931255
-
Level ID: 18
[ Start Tile, End Tile ]
- Resolution: 3.619103454891137
- Scale: 4169.215518465628
-
Level ID: 19
[ Start Tile, End Tile ]
- Resolution: 1.8095517274455686
- Scale: 2084.607759232814
-
Level ID: 20
[ Start Tile, End Tile ]
- Resolution: 0.9047758637227843
- Scale: 1042.303879616407
-
Level ID: 21
[ Start Tile, End Tile ]
- Resolution: 0.45238793186139215
- Scale: 521.1519398082035
-
Level ID: 22
[ Start Tile, End Tile ]
- Resolution: 0.22619396593069607
- Scale: 260.5759699041017
-
Level ID: 23
[ Start Tile, End Tile ]
- Resolution: 0.11309698296534804
- Scale: 130.28798495205086
- Format: Mixed
- Compression Quality: 90.0
- Origin: X: -1.1979654411144307E8
Y: 1.1889610745162947E8
- Spatial Reference: 102743
(3566)
LatestVCSWkid(0)
Storage Info:
- Storage Format: esriMapCacheStorageModeCompactV2
- Packet Size: 128
Initial Extent:
XMin: 1540703.5292987637
YMin: 7441305.625086026
XMax: 1554415.0301925489
YMax: 7452270.632681515
Spatial Reference: 102743
(3566)
LatestVCSWkid(0)
Full Extent:
XMin: 1541834.9898169048
YMin: 7441769.424606505
XMax: 1553283.529756533
YMax: 7451806.858000701
Spatial Reference: 102743
(3566)
LatestVCSWkid(0)
Units: esriFeet
Supported Image Format Types: PNG32,PNG24,PNG,JPG,DIB,TIFF,EMF,PS,PDF,GIF,SVG,SVGZ,BMP
Document Info:
Title: Map
Author:
Comments:
Subject:
Category:
Keywords:
AntialiasingMode: Fast
TextAntialiasingMode: Force
Supports Dynamic Layers: true
MaxRecordCount: 2000
MaxSelectionCount: 2000
MaxImageHeight: 4096
MaxImageWidth: 4096
Supported Query Formats: JSON, geoJSON, PBF
Supports Query Data Elements: true
Min Scale: 16676.86207386251
Max Scale: 130.28798495205086
Supports Datum Transformation: true
Child Resources:
Info
Dynamic Layer
Supported Operations:
Export Map
Identify
QueryLegends
QueryDomains
Find
Return Updates